BEGIN:VCALENDAR
VERSION:2.0
PRODID:-//M365 Copilot//EN
BEGIN:VEVENT
UID:1778602800.0@copilot
DTSTAMP:20260420T221512Z
DTSTART:20260512T172000
DTEND:20260512T173000
SUMMARY:Therapeutic Neural Activation and the Prevention of Over- and Under-Stimulation
DESCRIPTION:Therapeutic Neural Activation and the Prevention of Over- and Under-Stimulation: ECAP Study Sub-Analysis
LOCATION:Auditorium III–IV
END:VEVENT
END:VCALENDAR
