BEGIN:VCALENDAR
VERSION:2.0
PRODID:-//M365 Copilot//EN
BEGIN:VEVENT
UID:1778752800.0@copilot
DTSTAMP:20260420T221710Z
DTSTART:20260514T110000
DTEND:20260514T111000
SUMMARY:Optimal dose-response and patient-reported outcomes in CRPS treated with ECAP-controlled closed-loop SCS
DESCRIPTION:Optimal dose-response and patient-reported outcomes in CRPS treated with ECAP-controlled closed-loop SCS
LOCATION:Auditorium III–IV
END:VEVENT
END:VCALENDAR
