BEGIN:VCALENDAR
VERSION:2.0
PRODID:-//M365 Copilot//EN
BEGIN:VEVENT
UID:1778600400.0@copilot
DTSTAMP:20260420T212838Z
DTSTART:20260512T164000
DTEND:20260512T165000
SUMMARY:Long-term ECAP Dose-Controlled Closed-Loop Therapy Outcomes
DESCRIPTION:Long-term ECAP Dose-Controlled Closed-Loop Therapy Outcomes in Same Day Objective SCS Trial Responders: 12-Month Results
LOCATION:Auditorium II
END:VEVENT
END:VCALENDAR
