BEGIN:VCALENDAR
VERSION:2.0
PRODID:-//M365 Copilot//EN
BEGIN:VEVENT
UID:1778601600.0-aud2@copilot
DTSTAMP:20260420T222247Z
DTSTART:20260512T170000
DTEND:20260512T171000
SUMMARY:An In-depth Analysis of the Therapeutic Effects of ECAP Dose-Controlled Closed Loop SCS
DESCRIPTION:An In-depth Analysis of the Therapeutic Effects of ECAP Dose-Controlled Closed Loop SCS During the Trial Period
LOCATION:Auditorium II
END:VEVENT
END:VCALENDAR
