BEGIN:VCALENDAR
VERSION:2.0
PRODID:-//M365 Copilot//EN
BEGIN:VEVENT
UID:1778517900.0@copilot
DTSTAMP:20260420T211419Z
DTSTART:20260511T174500
DTEND:20260511T175500
SUMMARY:Five years of closed-loop spinal cord stimulation: a retrospective study
DESCRIPTION:Five years of closed-loop spinal cord stimulation: a retrospective study of 118 patient outcomes with an 84% device retention and a 2.5% infection rate
LOCATION:Auditorium I
END:VEVENT
END:VCALENDAR
