BEGIN:VCALENDAR
VERSION:2.0
PRODID:-//M365 Copilot//EN
BEGIN:VEVENT
UID:1778518500.0@copilot
DTSTAMP:20260420T212229Z
DTSTART:20260511T175500
DTEND:20260511T180500
SUMMARY:ECAP Dose-Controlled Closed-Loop SCS for complex regional pain syndrome
DESCRIPTION:ECAP Dose-Controlled Closed-Loop SCS for complex regional pain syndrome: a subgroup analysis of the ECAP Study
LOCATION:Auditorium I
END:VEVENT
END:VCALENDAR
