BEGIN:VCALENDAR
VERSION:2.0
PRODID:-//M365 Copilot//EN
BEGIN:VEVENT
UID:1778602200.0@copilot
DTSTAMP:20260420T221326Z
DTSTART:20260512T171000
DTEND:20260512T172000
SUMMARY:Dose Ratio Guidance in Spinal Cord Stimulation: Methodological Considerations
DESCRIPTION:Dose Ratio Guidance in Spinal Cord Stimulation: Methodological Considerations
LOCATION:Auditorium III–IV
END:VEVENT
END:VCALENDAR
